BEGIN:VCALENDAR
VERSION:2.0
PRODID:SchoolNow
CALSCALE:GREGORIAN
BEGIN:VEVENT
UID:ec5c8594-7b0f-11ed-9890-0e8d8876227f
DTSTAMP:20221213T175943Z
SUMMARY:Thanksgiving Holiday - College Closed
URL;VALUE=URI:https://www.fletcher.edu/calendar/3643124/thanksgiving-holida
 y-college-closed
DTSTART;VALUE=DATE:20231123
DTEND;VALUE=DATE:20231125
END:VEVENT
END:VCALENDAR
