BEGIN:VCALENDAR
VERSION:2.0
PRODID:SchoolNow
CALSCALE:GREGORIAN
BEGIN:VEVENT
UID:dcac89fa-7b0f-11ed-9e0f-0e8d8876227f
DTSTAMP:20221213T175917Z
SUMMARY:Labor Day - College Closed
URL;VALUE=URI:https://www.fletcher.edu/calendar/3643123/labor-day-college-c
 losed
DTSTART;VALUE=DATE:20230904
DTEND;VALUE=DATE:20230905
END:VEVENT
END:VCALENDAR
