BEGIN:VCALENDAR
VERSION:2.0
PRODID:SchoolNow
CALSCALE:GREGORIAN
BEGIN:VEVENT
UID:0ee5e790-7b0b-11ed-b156-0e3b125fb5b5
DTSTAMP:20221213T172454Z
SUMMARY:Last Day to Drop a Session 5 Class and Receive a Refund
URL;VALUE=URI:https://www.fletcher.edu/calendar/3643119/last-day-to-drop-a-
 session-5-class-and-receive-a-refund
DTSTART;VALUE=DATE:20230626
DTEND;VALUE=DATE:20230627
END:VEVENT
END:VCALENDAR
