BEGIN:VCALENDAR
VERSION:2.0
PRODID:SchoolNow
CALSCALE:GREGORIAN
BEGIN:VEVENT
UID:f51a6642-7b0a-11ed-9d1f-0e3b125fb5b5
DTSTAMP:20221213T172411Z
SUMMARY:Juneteenth Student Holiday
URL;VALUE=URI:https://www.fletcher.edu/calendar/3643118/juneteenth-student-
 holiday
DTSTART;VALUE=DATE:20230619
DTEND;VALUE=DATE:20230620
END:VEVENT
END:VCALENDAR
