BEGIN:VCALENDAR
VERSION:2.0
PRODID:SchoolNow
CALSCALE:GREGORIAN
BEGIN:VEVENT
UID:e6aa81e6-7b0a-11ed-994c-0e3b125fb5b5
DTSTAMP:20221213T172346Z
SUMMARY:Enrollment Census Day
URL;VALUE=URI:https://www.fletcher.edu/calendar/3643117/enrollment-census-d
 ay
DTSTART;VALUE=DATE:20230613
DTEND;VALUE=DATE:20230614
END:VEVENT
END:VCALENDAR
