BEGIN:VCALENDAR
VERSION:2.0
PRODID:SchoolNow
CALSCALE:GREGORIAN
BEGIN:VEVENT
UID:da526558-7b0a-11ed-bb00-0e3b125fb5b5
DTSTAMP:20221213T172326Z
SUMMARY:Last Day to Add a Session 5 Class
URL;VALUE=URI:https://www.fletcher.edu/calendar/3643116/last-day-to-add-a-s
 ession-5-class
DTSTART;VALUE=DATE:20230605
DTEND;VALUE=DATE:20230606
END:VEVENT
END:VCALENDAR
