BEGIN:VCALENDAR
VERSION:2.0
PRODID:SchoolNow
CALSCALE:GREGORIAN
BEGIN:VEVENT
UID:b2206620-7b0a-11ed-b861-0e3b125fb5b5
DTSTAMP:20221213T172218Z
SUMMARY:Session 5 Begins
URL;VALUE=URI:https://www.fletcher.edu/calendar/3643115/session-5-begins
DTSTART;VALUE=DATE:20230601
DTEND;VALUE=DATE:20230602
END:VEVENT
END:VCALENDAR
