BEGIN:VCALENDAR
VERSION:2.0
PRODID:SchoolNow
CALSCALE:GREGORIAN
BEGIN:VEVENT
UID:7426677c-7b03-11ed-a3dc-0e61d506d217
DTSTAMP:20221213T163028Z
SUMMARY:Derby Party
URL;VALUE=URI:https://www.fletcher.edu/calendar/3642924/derby-party
DTSTART:20230506T213000Z
DTEND:20230507T013000Z
END:VEVENT
END:VCALENDAR
